BEGIN:VCALENDAR
VERSION:2.0
PRODID:-//ChamberMaster//Event Calendar 2.0//EN
METHOD:PUBLISH
X-PUBLISHED-TTL:P3D
REFRESH-INTERVAL:P3D
CALSCALE:GREGORIAN
BEGIN:VEVENT
DTSTART:20090604T110000Z
DTEND:20090604T130000Z
X-MICROSOFT-CDO-ALLDAYEVENT:FALSE
SUMMARY:Breakfast Club -- June 4\, 2009
DESCRIPTION:
X-ALT-DESC;FMTTYPE=text/html:
LOCATION:Mechanics Hall
UID:e.2083.516
SEQUENCE:3
DTSTAMP:20260423T063203Z
URL:https://business.worcesterchamber.org/events/details/breakfast-club-june-4-2009-06-04-2009-516
END:VEVENT

END:VCALENDAR
