BEGIN:VCALENDAR
VERSION:2.0
PRODID:-//ChamberMaster//Event Calendar 2.0//EN
METHOD:PUBLISH
X-PUBLISHED-TTL:P3D
REFRESH-INTERVAL:P3D
CALSCALE:GREGORIAN
BEGIN:VEVENT
DTSTART:20110609T110000Z
DTEND:20110609T130000Z
X-MICROSOFT-CDO-ALLDAYEVENT:FALSE
SUMMARY:Breakfast Club - June 9\, 2011
DESCRIPTION:
X-ALT-DESC;FMTTYPE=text/html:
LOCATION:Mechanics Hall
UID:e.2083.731
SEQUENCE:3
DTSTAMP:20260421T172951Z
URL:https://business.worcesterchamber.org/events/details/breakfast-club-june-9-2011-06-09-2011-731
END:VEVENT

END:VCALENDAR
