BEGIN:VCALENDAR
VERSION:2.0
PRODID:-//ChamberMaster//Event Calendar 2.0//EN
METHOD:PUBLISH
X-PUBLISHED-TTL:P3D
REFRESH-INTERVAL:P3D
CALSCALE:GREGORIAN
BEGIN:VEVENT
DTSTART:20110310T120000Z
DTEND:20110310T140000Z
X-MICROSOFT-CDO-ALLDAYEVENT:FALSE
SUMMARY:Breakfast Club - March 10\, 2011
DESCRIPTION:
X-ALT-DESC;FMTTYPE=text/html:
LOCATION:College of the Holy Cross\, Hogan Center
UID:e.2083.695
SEQUENCE:3
DTSTAMP:20260421T220935Z
URL:https://business.worcesterchamber.org/events/details/breakfast-club-march-10-2011-03-10-2011-695
END:VEVENT

END:VCALENDAR
