BEGIN:VCALENDAR
VERSION:2.0
PRODID:-//ChamberMaster//Event Calendar 2.0//EN
METHOD:PUBLISH
X-PUBLISHED-TTL:P3D
REFRESH-INTERVAL:P3D
CALSCALE:GREGORIAN
BEGIN:VEVENT
DTSTART:20120308T120000Z
DTEND:20120308T140000Z
X-MICROSOFT-CDO-ALLDAYEVENT:FALSE
SUMMARY:Breakfast Club - March 8\, 2012 - College of the Holy Cross
DESCRIPTION:
X-ALT-DESC;FMTTYPE=text/html:
LOCATION:College of the Holy Cross\, Hogan Center
UID:e.2083.773
SEQUENCE:3
DTSTAMP:20260421T031607Z
URL:https://business.worcesterchamber.org/events/details/breakfast-club-march-8-2012-college-of-the-holy-cross-03-08-2012-773
END:VEVENT

END:VCALENDAR
