BEGIN:VCALENDAR
VERSION:2.0
PRODID:-//ChamberMaster//Event Calendar 2.0//EN
METHOD:PUBLISH
X-PUBLISHED-TTL:P3D
REFRESH-INTERVAL:P3D
CALSCALE:GREGORIAN
BEGIN:VEVENT
DTSTART:20100916T230000Z
DTEND:20100917T010000Z
X-MICROSOFT-CDO-ALLDAYEVENT:FALSE
SUMMARY:Breakfast Club\, September 16\, 2010
DESCRIPTION:
X-ALT-DESC;FMTTYPE=text/html:
LOCATION:Beechwood Hotel
UID:e.2083.649
SEQUENCE:3
DTSTAMP:20260422T054533Z
URL:https://business.worcesterchamber.org/events/details/breakfast-club-september-16-2010-09-16-2010-649
END:VEVENT

END:VCALENDAR
