BEGIN:VCALENDAR
VERSION:2.0
PRODID:-//ChamberMaster//Event Calendar 2.0//EN
METHOD:PUBLISH
X-PUBLISHED-TTL:P3D
REFRESH-INTERVAL:P3D
CALSCALE:GREGORIAN
BEGIN:VEVENT
DTSTART:20120906T110000Z
DTEND:20120906T130000Z
X-MICROSOFT-CDO-ALLDAYEVENT:FALSE
SUMMARY:Breakfast Club - September 6\, 2012 - Mechanics Hall
DESCRIPTION:
X-ALT-DESC;FMTTYPE=text/html:
LOCATION:Mechanics HAll
UID:e.2083.830
SEQUENCE:3
DTSTAMP:20260420T165208Z
URL:https://business.worcesterchamber.org/events/details/breakfast-club-september-6-2012-mechanics-hall-09-06-2012-830
END:VEVENT

END:VCALENDAR
