BEGIN:VCALENDAR
VERSION:2.0
PRODID:-//ChamberMaster//Event Calendar 2.0//EN
METHOD:PUBLISH
X-PUBLISHED-TTL:P3D
REFRESH-INTERVAL:P3D
CALSCALE:GREGORIAN
BEGIN:VEVENT
DTSTART:20090910T230000Z
DTEND:20090911T010000Z
X-MICROSOFT-CDO-ALLDAYEVENT:FALSE
SUMMARY:Breakfast Club Sponsorship - 9/10/09
DESCRIPTION:
X-ALT-DESC;FMTTYPE=text/html:
LOCATION:Crowne Plaza
UID:e.2083.543
SEQUENCE:3
DTSTAMP:20260423T012933Z
URL:https://business.worcesterchamber.org/events/details/breakfast-club-sponsorship-9-10-09-09-10-2009-543
END:VEVENT

END:VCALENDAR
