BEGIN:VCALENDAR
VERSION:2.0
PRODID:-//ChamberMaster//Event Calendar 2.0//EN
METHOD:PUBLISH
X-PUBLISHED-TTL:P3D
REFRESH-INTERVAL:P3D
CALSCALE:GREGORIAN
BEGIN:VEVENT
DTSTART:20090604T230000Z
DTEND:20090605T010000Z
X-MICROSOFT-CDO-ALLDAYEVENT:FALSE
SUMMARY:Breakfast Club Sponsorship\, June 4\, 2009
DESCRIPTION:
X-ALT-DESC;FMTTYPE=text/html:
LOCATION:Mechanics Hall
UID:e.2083.522
SEQUENCE:3
DTSTAMP:20260423T044940Z
URL:https://business.worcesterchamber.org/events/details/breakfast-club-sponsorship-june-4-2009-06-04-2009-522
END:VEVENT

END:VCALENDAR
