BEGIN:VCALENDAR
VERSION:2.0
PRODID:-//ChamberMaster//Event Calendar 2.0//EN
METHOD:PUBLISH
X-PUBLISHED-TTL:P3D
REFRESH-INTERVAL:P3D
CALSCALE:GREGORIAN
BEGIN:VEVENT
DTSTART:20110311T000000Z
DTEND:20110311T020000Z
X-MICROSOFT-CDO-ALLDAYEVENT:FALSE
SUMMARY:Breakfast Club Sponsorship\, March 10\, 2011
DESCRIPTION:
X-ALT-DESC;FMTTYPE=text/html:
LOCATION:College of the Holy Cross\, Hogan Center
UID:e.2083.694
SEQUENCE:3
DTSTAMP:20260421T204137Z
URL:https://business.worcesterchamber.org/events/details/breakfast-club-sponsorship-march-10-2011-03-10-2011-694
END:VEVENT

END:VCALENDAR
