BEGIN:VCALENDAR
VERSION:2.0
PRODID:-//ChamberMaster//Event Calendar 2.0//EN
METHOD:PUBLISH
X-PUBLISHED-TTL:P3D
REFRESH-INTERVAL:P3D
CALSCALE:GREGORIAN
BEGIN:VEVENT
DTSTART:20100305T000000Z
DTEND:20100305T020000Z
X-MICROSOFT-CDO-ALLDAYEVENT:FALSE
SUMMARY:Breakfast Club Sponsorship\, March 4\, 2010
DESCRIPTION:
X-ALT-DESC;FMTTYPE=text/html:
LOCATION:College of the Holy Cross\, Hogan Center
UID:e.2083.604
SEQUENCE:3
DTSTAMP:20260422T155402Z
URL:https://business.worcesterchamber.org/events/details/breakfast-club-sponsorship-march-4-2010-03-04-2010-604
END:VEVENT

END:VCALENDAR
