BEGIN:VCALENDAR
VERSION:2.0
PRODID:-//ChamberMaster//Event Calendar 2.0//EN
METHOD:PUBLISH
X-PUBLISHED-TTL:P3D
REFRESH-INTERVAL:P3D
CALSCALE:GREGORIAN
BEGIN:VEVENT
DTSTART:20110908T230000Z
DTEND:20110909T010000Z
X-MICROSOFT-CDO-ALLDAYEVENT:FALSE
SUMMARY:Breakfast Club Sponsorship\, September 8\, 2011
DESCRIPTION:
X-ALT-DESC;FMTTYPE=text/html:
LOCATION:Beechwood Hotel
UID:e.2083.748
SEQUENCE:3
DTSTAMP:20260421T130456Z
URL:https://business.worcesterchamber.org/events/details/breakfast-club-sponsorship-september-8-2011-09-08-2011-748
END:VEVENT

END:VCALENDAR
