BEGIN:VCALENDAR
VERSION:2.0
PRODID:-//ChamberMaster//Event Calendar 2.0//EN
METHOD:PUBLISH
X-PUBLISHED-TTL:P3D
REFRESH-INTERVAL:P3D
CALSCALE:GREGORIAN
BEGIN:VEVENT
DTSTART:20130117T220000Z
DTEND:20130118T003000Z
X-MICROSOFT-CDO-ALLDAYEVENT:FALSE
SUMMARY:Business After Hours - 01.17.13 - Zorba's
DESCRIPTION:
X-ALT-DESC;FMTTYPE=text/html:
LOCATION:Zorba's
UID:e.2083.864
SEQUENCE:3
DTSTAMP:20260420T113514Z
URL:https://business.worcesterchamber.org/events/details/business-after-hours-01-17-13-zorba-s-01-17-2013-864
END:VEVENT

END:VCALENDAR
