BEGIN:VCALENDAR
VERSION:2.0
PRODID:-//ChamberMaster//Event Calendar 2.0//EN
METHOD:PUBLISH
X-PUBLISHED-TTL:P3D
REFRESH-INTERVAL:P3D
CALSCALE:GREGORIAN
BEGIN:VEVENT
DTSTART:20121018T210000Z
DTEND:20121018T233000Z
X-MICROSOFT-CDO-ALLDAYEVENT:FALSE
SUMMARY:Business After Hours - 10/18/12 - Luciano's
DESCRIPTION:
X-ALT-DESC;FMTTYPE=text/html:
LOCATION:Luciano's
UID:e.2083.845
SEQUENCE:3
DTSTAMP:20260420T153526Z
URL:https://business.worcesterchamber.org/events/details/business-after-hours-10-18-12-luciano-s-10-18-2012-845
END:VEVENT

END:VCALENDAR
