BEGIN:VCALENDAR
VERSION:2.0
PRODID:-//ChamberMaster//Event Calendar 2.0//EN
METHOD:PUBLISH
X-PUBLISHED-TTL:P3D
REFRESH-INTERVAL:P3D
CALSCALE:GREGORIAN
BEGIN:VEVENT
DTSTART:20111020T210000Z
DTEND:20111020T233000Z
X-MICROSOFT-CDO-ALLDAYEVENT:FALSE
SUMMARY:Business After Hours -10/20/11- Hilton Garden Inn
DESCRIPTION:
X-ALT-DESC;FMTTYPE=text/html:
LOCATION:Hilton Garden Inn
UID:e.2083.760
SEQUENCE:3
DTSTAMP:20260421T113910Z
URL:https://business.worcesterchamber.org/events/details/business-after-hours-10-20-11-hilton-garden-inn-10-20-2011-760
END:VEVENT

END:VCALENDAR
