BEGIN:VCALENDAR
VERSION:2.0
PRODID:-//ChamberMaster//Event Calendar 2.0//EN
METHOD:PUBLISH
X-PUBLISHED-TTL:P3D
REFRESH-INTERVAL:P3D
CALSCALE:GREGORIAN
BEGIN:VEVENT
DTSTART:20121115T220000Z
DTEND:20121116T003000Z
X-MICROSOFT-CDO-ALLDAYEVENT:FALSE
SUMMARY:Business After Hours - 11/15/12 - 7Nana - Sponsorship
DESCRIPTION:
X-ALT-DESC;FMTTYPE=text/html:
LOCATION:7Nana
UID:e.2083.850
SEQUENCE:3
DTSTAMP:20260420T142312Z
URL:https://business.worcesterchamber.org/events/details/business-after-hours-11-15-12-7nana-sponsorship-11-15-2012-850
END:VEVENT

END:VCALENDAR
