BEGIN:VCALENDAR
VERSION:2.0
PRODID:-//ChamberMaster//Event Calendar 2.0//EN
METHOD:PUBLISH
X-PUBLISHED-TTL:P3D
REFRESH-INTERVAL:P3D
CALSCALE:GREGORIAN
BEGIN:VEVENT
DTSTART:20111117T220000Z
DTEND:20111118T003000Z
X-MICROSOFT-CDO-ALLDAYEVENT:FALSE
SUMMARY:Business After Hours -11/17/11- Nuovo
DESCRIPTION:
X-ALT-DESC;FMTTYPE=text/html:
LOCATION:Nuovo
UID:e.2083.763
SEQUENCE:3
DTSTAMP:20260421T095944Z
URL:https://business.worcesterchamber.org/events/details/business-after-hours-11-17-11-nuovo-11-17-2011-763
END:VEVENT

END:VCALENDAR
