BEGIN:VCALENDAR
VERSION:2.0
PRODID:-//ChamberMaster//Event Calendar 2.0//EN
METHOD:PUBLISH
X-PUBLISHED-TTL:P3D
REFRESH-INTERVAL:P3D
CALSCALE:GREGORIAN
BEGIN:VEVENT
DTSTART:20091119T220000Z
DTEND:20091120T003000Z
X-MICROSOFT-CDO-ALLDAYEVENT:FALSE
SUMMARY:Business After Hours - 11/19/09 - Percy's
DESCRIPTION:
X-ALT-DESC;FMTTYPE=text/html:
LOCATION:Percy's
UID:e.2083.569
SEQUENCE:3
DTSTAMP:20260422T221227Z
URL:https://business.worcesterchamber.org/events/details/business-after-hours-11-19-09-percy-s-11-19-2009-569
END:VEVENT

END:VCALENDAR
