BEGIN:VCALENDAR
VERSION:2.0
PRODID:-//ChamberMaster//Event Calendar 2.0//EN
METHOD:PUBLISH
X-PUBLISHED-TTL:P3D
REFRESH-INTERVAL:P3D
CALSCALE:GREGORIAN
BEGIN:VEVENT
DTSTART:20120726T210000Z
DTEND:20120726T233000Z
X-MICROSOFT-CDO-ALLDAYEVENT:FALSE
SUMMARY:Business After Hours - 7/26/12 - Grill On The Hill - Green H
DESCRIPTION:
X-ALT-DESC;FMTTYPE=text/html:
LOCATION:Grill on the Hill at Green Hill
UID:e.2083.823
SEQUENCE:3
DTSTAMP:20260420T201312Z
URL:https://business.worcesterchamber.org/events/details/business-after-hours-7-26-12-grill-on-the-hill-green-h-07-26-2012-823
END:VEVENT

END:VCALENDAR
