BEGIN:VCALENDAR
VERSION:2.0
PRODID:-//ChamberMaster//Event Calendar 2.0//EN
METHOD:PUBLISH
X-PUBLISHED-TTL:P3D
REFRESH-INTERVAL:P3D
CALSCALE:GREGORIAN
BEGIN:VEVENT
DTSTART:20120823T210000Z
DTEND:20120823T233000Z
X-MICROSOFT-CDO-ALLDAYEVENT:FALSE
SUMMARY:Business After Hours - 8/23/12 - UniBank\, Gold Star Boulevar
DESCRIPTION:
X-ALT-DESC;FMTTYPE=text/html:
LOCATION:UniBank
UID:e.2083.832
SEQUENCE:3
DTSTAMP:20260420T183012Z
URL:https://business.worcesterchamber.org/events/details/business-after-hours-8-23-12-unibank-gold-star-boulevar-08-23-2012-832
END:VEVENT

END:VCALENDAR
