BEGIN:VCALENDAR
VERSION:2.0
PRODID:-//ChamberMaster//Event Calendar 2.0//EN
METHOD:PUBLISH
X-PUBLISHED-TTL:P3D
REFRESH-INTERVAL:P3D
CALSCALE:GREGORIAN
BEGIN:VEVENT
DTSTART:20120920T210000Z
DTEND:20120920T233000Z
X-MICROSOFT-CDO-ALLDAYEVENT:FALSE
SUMMARY:Business After Hours - 9/20/12 - Corapi
DESCRIPTION:
X-ALT-DESC;FMTTYPE=text/html:
LOCATION:Corapi
UID:e.2083.837
SEQUENCE:3
DTSTAMP:20260420T165112Z
URL:https://business.worcesterchamber.org/events/details/business-after-hours-9-20-12-corapi-09-20-2012-837
END:VEVENT

END:VCALENDAR
