BEGIN:VCALENDAR
VERSION:2.0
PRODID:-//ChamberMaster//Event Calendar 2.0//EN
METHOD:PUBLISH
X-PUBLISHED-TTL:P3D
REFRESH-INTERVAL:P3D
CALSCALE:GREGORIAN
BEGIN:VEVENT
DTSTART:20110922T210000Z
DTEND:20110922T233000Z
X-MICROSOFT-CDO-ALLDAYEVENT:FALSE
SUMMARY:Business After Hours -9/22/11 - The Citizen
DESCRIPTION:
X-ALT-DESC;FMTTYPE=text/html:
LOCATION:The Citizen
UID:e.2083.750
SEQUENCE:3
DTSTAMP:20260421T113744Z
URL:https://business.worcesterchamber.org/events/details/business-after-hours-9-22-11-the-citizen-09-22-2011-750
END:VEVENT

END:VCALENDAR
