BEGIN:VCALENDAR
VERSION:2.0
PRODID:-//ChamberMaster//Event Calendar 2.0//EN
METHOD:PUBLISH
X-PUBLISHED-TTL:P3D
REFRESH-INTERVAL:P3D
CALSCALE:GREGORIAN
BEGIN:VEVENT
DTSTART:20100415T210000Z
DTEND:20100415T233000Z
X-MICROSOFT-CDO-ALLDAYEVENT:FALSE
SUMMARY:Business After Hours - April 15\, 2010
DESCRIPTION:
X-ALT-DESC;FMTTYPE=text/html:
LOCATION:City Park Grill
UID:e.2083.609
SEQUENCE:3
DTSTAMP:20260422T130309Z
URL:https://business.worcesterchamber.org/events/details/business-after-hours-april-15-2010-04-15-2010-609
END:VEVENT

END:VCALENDAR
