BEGIN:VCALENDAR
VERSION:2.0
PRODID:-//ChamberMaster//Event Calendar 2.0//EN
METHOD:PUBLISH
X-PUBLISHED-TTL:P3D
REFRESH-INTERVAL:P3D
CALSCALE:GREGORIAN
BEGIN:VEVENT
DTSTART:20120216T220000Z
DTEND:20120217T003000Z
X-MICROSOFT-CDO-ALLDAYEVENT:FALSE
SUMMARY:Business After Hours - February 16\, 2012 - Zorba's
DESCRIPTION:
X-ALT-DESC;FMTTYPE=text/html:
LOCATION:Zorba's Taverna
UID:e.2083.783
SEQUENCE:3
DTSTAMP:20260421T033351Z
URL:https://business.worcesterchamber.org/events/details/business-after-hours-february-16-2012-zorba-s-02-16-2012-783
END:VEVENT

END:VCALENDAR
