BEGIN:VCALENDAR
VERSION:2.0
PRODID:-//ChamberMaster//Event Calendar 2.0//EN
METHOD:PUBLISH
X-PUBLISHED-TTL:P3D
REFRESH-INTERVAL:P3D
CALSCALE:GREGORIAN
BEGIN:VEVENT
DTSTART:20120119T220000Z
DTEND:20120120T003000Z
X-MICROSOFT-CDO-ALLDAYEVENT:FALSE
SUMMARY:Business After Hours - January 19\, 2012 - Ritual
DESCRIPTION:
X-ALT-DESC;FMTTYPE=text/html:
LOCATION:Ritual
UID:e.2083.776
SEQUENCE:3
DTSTAMP:20260421T051200Z
URL:https://business.worcesterchamber.org/events/details/business-after-hours-january-19-2012-ritual-01-19-2012-776
END:VEVENT

END:VCALENDAR
