BEGIN:VCALENDAR
VERSION:2.0
PRODID:-//ChamberMaster//Event Calendar 2.0//EN
METHOD:PUBLISH
X-PUBLISHED-TTL:P3D
REFRESH-INTERVAL:P3D
CALSCALE:GREGORIAN
BEGIN:VEVENT
DTSTART:20100722T210000Z
DTEND:20100722T233000Z
X-MICROSOFT-CDO-ALLDAYEVENT:FALSE
SUMMARY:Business After Hours - July 22\, 2010 - Grill on the Hill
DESCRIPTION:
X-ALT-DESC;FMTTYPE=text/html:
LOCATION:Grill on the Hill - Green Hill Golf Course
UID:e.2083.642
SEQUENCE:3
DTSTAMP:20260422T091612Z
URL:https://business.worcesterchamber.org/events/details/business-after-hours-july-22-2010-grill-on-the-hill-07-22-2010-642
END:VEVENT

END:VCALENDAR
