BEGIN:VCALENDAR
VERSION:2.0
PRODID:-//ChamberMaster//Event Calendar 2.0//EN
METHOD:PUBLISH
X-PUBLISHED-TTL:P3D
REFRESH-INTERVAL:P3D
CALSCALE:GREGORIAN
BEGIN:VEVENT
DTSTART:20120315T210000Z
DTEND:20120315T233000Z
X-MICROSOFT-CDO-ALLDAYEVENT:FALSE
SUMMARY:Business After Hours - March 15\, 2012 - Hirosaki Prime
DESCRIPTION:
X-ALT-DESC;FMTTYPE=text/html:
LOCATION:Hirosaki Prime
UID:e.2083.792
SEQUENCE:3
DTSTAMP:20260421T015711Z
URL:https://business.worcesterchamber.org/events/details/business-after-hours-march-15-2012-hirosaki-prime-03-15-2012-792
END:VEVENT

END:VCALENDAR
