BEGIN:VCALENDAR
VERSION:2.0
PRODID:-//ChamberMaster//Event Calendar 2.0//EN
METHOD:PUBLISH
X-PUBLISHED-TTL:P3D
REFRESH-INTERVAL:P3D
CALSCALE:GREGORIAN
BEGIN:VEVENT
DTSTART:20130321T210000Z
DTEND:20130321T233000Z
X-MICROSOFT-CDO-ALLDAYEVENT:FALSE
SUMMARY:Business After Hours - March 21\, 2013 - Commerce Bank
DESCRIPTION:
X-ALT-DESC;FMTTYPE=text/html:
LOCATION:Commerce Bank
UID:e.2083.879
SEQUENCE:3
DTSTAMP:20260420T102358Z
URL:https://business.worcesterchamber.org/events/details/business-after-hours-march-21-2013-commerce-bank-03-21-2013-879
END:VEVENT

END:VCALENDAR
