BEGIN:VCALENDAR
VERSION:2.0
PRODID:-//ChamberMaster//Event Calendar 2.0//EN
METHOD:PUBLISH
X-PUBLISHED-TTL:P3D
REFRESH-INTERVAL:P3D
CALSCALE:GREGORIAN
BEGIN:VEVENT
DTSTART:20110519T210000Z
DTEND:20110519T233000Z
X-MICROSOFT-CDO-ALLDAYEVENT:FALSE
SUMMARY:Business After Hours - May 19\, 2011
DESCRIPTION:
X-ALT-DESC;FMTTYPE=text/html:
LOCATION:El Basha
UID:e.2083.726
SEQUENCE:3
DTSTAMP:20260421T174527Z
URL:https://business.worcesterchamber.org/events/details/business-after-hours-may-19-2011-05-19-2011-726
END:VEVENT

END:VCALENDAR
