BEGIN:VCALENDAR
VERSION:2.0
PRODID:-//ChamberMaster//Event Calendar 2.0//EN
METHOD:PUBLISH
X-PUBLISHED-TTL:P3D
REFRESH-INTERVAL:P3D
CALSCALE:GREGORIAN
BEGIN:VEVENT
DTSTART:20110623T210000Z
DTEND:20110623T233000Z
X-MICROSOFT-CDO-ALLDAYEVENT:FALSE
SUMMARY:Business After Hours - Partnership with C9 6/23/11Spon.
DESCRIPTION:
X-ALT-DESC;FMTTYPE=text/html:
LOCATION:The Beechwood Hotel
UID:e.2083.711
SEQUENCE:3
DTSTAMP:20260421T160423Z
URL:https://business.worcesterchamber.org/events/details/business-after-hours-partnership-with-c9-6-23-11spon-06-23-2011-711
END:VEVENT

END:VCALENDAR
