BEGIN:VCALENDAR
VERSION:2.0
PRODID:-//ChamberMaster//Event Calendar 2.0//EN
METHOD:PUBLISH
X-PUBLISHED-TTL:P3D
REFRESH-INTERVAL:P3D
CALSCALE:GREGORIAN
BEGIN:VEVENT
DTSTART:20100930T210000Z
DTEND:20100930T233000Z
X-MICROSOFT-CDO-ALLDAYEVENT:FALSE
SUMMARY:Business After Hours - September 30\, 1020
DESCRIPTION:
X-ALT-DESC;FMTTYPE=text/html:
LOCATION:Leo's Ristorante
UID:e.2083.656
SEQUENCE:3
DTSTAMP:20260422T054728Z
URL:https://business.worcesterchamber.org/events/details/business-after-hours-september-30-1020-09-30-2010-656
END:VEVENT

END:VCALENDAR
