BEGIN:VCALENDAR
VERSION:2.0
PRODID:-//ChamberMaster//Event Calendar 2.0//EN
METHOD:PUBLISH
X-PUBLISHED-TTL:P3D
REFRESH-INTERVAL:P3D
CALSCALE:GREGORIAN
BEGIN:VEVENT
DTSTART:20100218T220000Z
DTEND:20100219T003000Z
X-MICROSOFT-CDO-ALLDAYEVENT:FALSE
SUMMARY:Business After Hours Sponsorship - February 18\,2010
DESCRIPTION:
X-ALT-DESC;FMTTYPE=text/html:
LOCATION:Beechwood Hotel
UID:e.2083.590
SEQUENCE:3
DTSTAMP:20260422T155738Z
URL:https://business.worcesterchamber.org/events/details/business-after-hours-sponsorship-february-18-2010-02-18-2010-590
END:VEVENT

END:VCALENDAR
