BEGIN:VCALENDAR
VERSION:2.0
PRODID:-//ChamberMaster//Event Calendar 2.0//EN
METHOD:PUBLISH
X-PUBLISHED-TTL:P3D
REFRESH-INTERVAL:P3D
CALSCALE:GREGORIAN
BEGIN:VEVENT
DTSTART:20120124T130000Z
DTEND:20120124T150000Z
X-MICROSOFT-CDO-ALLDAYEVENT:FALSE
SUMMARY:Business Owner's Dialogue Organizational Meeting 1/22/12
DESCRIPTION:
X-ALT-DESC;FMTTYPE=text/html:
LOCATION:Worcester Regional Chamber of Commerce
UID:e.2083.777
SEQUENCE:3
DTSTAMP:20260421T051911Z
URL:https://business.worcesterchamber.org/events/details/business-owner-s-dialogue-organizational-meeting-1-22-12-01-24-2012-777
END:VEVENT

END:VCALENDAR
