BEGIN:VCALENDAR
VERSION:2.0
PRODID:-//ChamberMaster//Event Calendar 2.0//EN
METHOD:PUBLISH
X-PUBLISHED-TTL:P3D
REFRESH-INTERVAL:P3D
CALSCALE:GREGORIAN
BEGIN:VEVENT
DTSTART:20121102T010000Z
DTEND:20121101T230000Z
X-MICROSOFT-CDO-ALLDAYEVENT:FALSE
SUMMARY:Central MA Business Expo - BBB Pavilion 2012
DESCRIPTION:
X-ALT-DESC;FMTTYPE=text/html:
LOCATION:DCU
UID:e.2083.847
SEQUENCE:3
DTSTAMP:20260420T142010Z
URL:https://business.worcesterchamber.org/events/details/central-ma-business-expo-bbb-pavilion-2012-11-01-2012-847
END:VEVENT

END:VCALENDAR
