BEGIN:VCALENDAR
VERSION:2.0
PRODID:-//ChamberMaster//Event Calendar 2.0//EN
METHOD:PUBLISH
X-PUBLISHED-TTL:P3D
REFRESH-INTERVAL:P3D
CALSCALE:GREGORIAN
BEGIN:VEVENT
DTSTART:20121016T040000Z
DTEND:20121016T040000Z
X-MICROSOFT-CDO-ALLDAYEVENT:FALSE
SUMMARY:Chamber Bus. & Home Show Program Booklet 2012
DESCRIPTION:Chamber Bus. & Home Show Program Booklet 2012
X-ALT-DESC;FMTTYPE=text/html:Chamber Bus. & Home Show Program Booklet 2012
LOCATION:
UID:e.2083.2168
SEQUENCE:3
DTSTAMP:20260420T165025Z
URL:https://business.worcesterchamber.org/events/details/chamber-bus-home-show-program-booklet-2012-10-16-2012-2168
END:VEVENT

END:VCALENDAR
