BEGIN:VCALENDAR
VERSION:2.0
PRODID:-//ChamberMaster//Event Calendar 2.0//EN
METHOD:PUBLISH
X-PUBLISHED-TTL:P3D
REFRESH-INTERVAL:P3D
CALSCALE:GREGORIAN
BEGIN:VEVENT
DTSTART:20110524T040000Z
DTEND:20110524T040000Z
X-MICROSOFT-CDO-ALLDAYEVENT:FALSE
SUMMARY:Chamber Lunch & Learn Seminar 5/24/11
DESCRIPTION:Chamber Lunch & Learn Seminar 5/24/11
X-ALT-DESC;FMTTYPE=text/html:Chamber Lunch & Learn Seminar 5/24/11
LOCATION:
UID:e.2083.2015
SEQUENCE:3
DTSTAMP:20260421T185618Z
URL:https://business.worcesterchamber.org/events/details/chamber-lunch-learn-seminar-5-24-11-05-24-2011-2015
END:VEVENT

END:VCALENDAR
