BEGIN:VCALENDAR
VERSION:2.0
PRODID:-//ChamberMaster//Event Calendar 2.0//EN
METHOD:PUBLISH
X-PUBLISHED-TTL:P3D
REFRESH-INTERVAL:P3D
CALSCALE:GREGORIAN
BEGIN:VEVENT
DTSTART:20100505T040000Z
DTEND:20100505T040000Z
X-MICROSOFT-CDO-ALLDAYEVENT:FALSE
SUMMARY:Chamber Lunch & Learn Seminar 5/5/10
DESCRIPTION:Chamber Lunch & Learn Seminar 5/5/10
X-ALT-DESC;FMTTYPE=text/html:Chamber Lunch & Learn Seminar 5/5/10
LOCATION:
UID:e.2083.1867
SEQUENCE:3
DTSTAMP:20260422T114503Z
URL:https://business.worcesterchamber.org/events/details/chamber-lunch-learn-seminar-5-5-10-05-05-2010-1867
END:VEVENT

END:VCALENDAR
