BEGIN:VCALENDAR
VERSION:2.0
PRODID:-//ChamberMaster//Event Calendar 2.0//EN
METHOD:PUBLISH
X-PUBLISHED-TTL:P3D
REFRESH-INTERVAL:P3D
CALSCALE:GREGORIAN
BEGIN:VEVENT
DTSTART:20100316T040000Z
DTEND:20100316T040000Z
X-MICROSOFT-CDO-ALLDAYEVENT:FALSE
SUMMARY:Chamber Seminar 3pm Session - 3/16/10
DESCRIPTION:Chamber Seminar 3pm Session - 3/16/10
X-ALT-DESC;FMTTYPE=text/html:Chamber Seminar 3pm Session - 3/16/10
LOCATION:
UID:e.2083.1823
SEQUENCE:3
DTSTAMP:20260422T143447Z
URL:https://business.worcesterchamber.org/events/details/chamber-seminar-3pm-session-3-16-10-03-16-2010-1823
END:VEVENT

END:VCALENDAR
