BEGIN:VCALENDAR
VERSION:2.0
PRODID:-//ChamberMaster//Event Calendar 2.0//EN
METHOD:PUBLISH
X-PUBLISHED-TTL:P3D
REFRESH-INTERVAL:P3D
CALSCALE:GREGORIAN
BEGIN:VEVENT
DTSTART:20201101T123000Z
DTEND:20201101T160000Z
X-MICROSOFT-CDO-ALLDAYEVENT:FALSE
SUMMARY:Church Online! Come worship with us and invite your friends and family! http://online.nextlevel.church/
DESCRIPTION:We're meeting at NLC Online (http://online.nextlevel.church/) this weekend!\n\nWe're excited to join together for a message from Pastor Josh and the kickoff to a new teaching series that our team has prayed for and created to fit the hope God wants us all to live in during this season called\, "We The Church".\n\nOur NLC Kids teams have also been working diligently to provide parents with age-appropriate messages\, worship\, discussion topics\, and other resources to lead your kids through the same amazing experiences they enjoy every weekend.\n\nWe haven't forgotten about NLC Students! Stay tuned to NLC Students on Instagram for content that speaks directly to what they are experiencing\, including live meetings every Wednesday at 6:30pm\, which kicked off last night with students united across all locations.\n\nWe know God is doing something incredible through His church and through NLC during this time and we are uniquely positioned to be a light to people searching for some good news. So look for ways you can be the Church in your community. Share what you have with others who may need it. Check in on your neighbors. Continue inviting people to church they can attend from their home or on their phone anytime!\n\nWe're not going to let physical proximity keep us from telling others about Jesus\, inviting them to hear His Gospel\, and worshiping together at NLC Online because\, now more than ever\, people are searching for hope and peace. Let's show them where to find what they're looking for as we invite them to church this weekend.
X-ALT-DESC;FMTTYPE=text/html:<p>We&rsquo\;re meeting at&nbsp\;<a href="https://online.nextlevel.church/" style="box-sizing: border-box\; text-decoration-line: none\; transition-property: color\, background-color\, border-color\; transition-duration: 0.2s\; transition-timing-function: linear\; color: rgb(78\, 171\, 71)\;">NLC Online</a>&nbsp\;(<strong><a href="http://online.nextlevel.church/">http://online.nextlevel.church/</a></strong>) this weekend!</p>\n\n<p>We&rsquo\;re excited to join together for a message from Pastor Josh and the kickoff to a new teaching series that our team has prayed for and created to fit the hope God wants us all to live in during this season called\, &ldquo\;We The Church&rdquo\;.</p>\n\n<p>Our NLC Kids teams have also been working diligently to provide parents with age-appropriate messages\, worship\, discussion topics\, and other resources to lead your kids through the same amazing experiences they enjoy every weekend.</p>\n\n<p>We haven&rsquo\;t forgotten about NLC Students! Stay tuned to NLC Students on&nbsp\;<a href="https://www.instagram.com/nlcstudents/" rel="noopener noreferrer" style="box-sizing: border-box\; text-decoration-line: none\; transition-property: color\, background-color\, border-color\; transition-duration: 0.2s\; transition-timing-function: linear\; color: rgb(78\, 171\, 71)\;" target="_blank">Instagram</a>&nbsp\;for content that speaks directly to what they are experiencing\, including live meetings every Wednesday at 6:30pm\, which kicked off last night with students united across all locations.</p>\n\n<p>We know God is doing something incredible through His church and through NLC during this time and we are uniquely positioned to be a light to people searching for some good news. So look for ways you can be the Church in your community. Share what you have with others who may need it. Check in on your neighbors. Continue inviting people to church&mdash\;they can attend from their home or on their phone anytime!</p>\n\n<p>We&rsquo\;re not going to let physical proximity keep us from telling others about Jesus\, inviting them to hear His Gospel\, and worshiping together at&nbsp\;<a href="https://online.nextlevel.church/" style="box-sizing: border-box\; text-decoration-line: none\; transition-property: color\, background-color\, border-color\; transition-duration: 0.2s\; transition-timing-function: linear\; color: rgb(78\, 171\, 71)\;">NLC Online</a>&nbsp\;because\, now more than ever\, people are searching for hope and peace. Let&rsquo\;s show them where to find what they&rsquo\;re looking for as we invite them to church this weekend.</p>\n
LOCATION:http://online.nextlevel.church
UID:e.2083.11883
SEQUENCE:3
DTSTAMP:20260424T222233Z
URL:https://business.worcesterchamber.org/events/details/church-online-come-worship-with-us-and-invite-your-friends-and-family-http-online-nextlevel-church-11-01-2020-11883
END:VEVENT

END:VCALENDAR
