BEGIN:VCALENDAR
VERSION:2.0
PRODID:-//ChamberMaster//Event Calendar 2.0//EN
METHOD:PUBLISH
X-PUBLISHED-TTL:P3D
REFRESH-INTERVAL:P3D
CALSCALE:GREGORIAN
BEGIN:VEVENT
DTSTART:20130119T001500Z
DTEND:20130119T020000Z
X-MICROSOFT-CDO-ALLDAYEVENT:FALSE
SUMMARY:Connect for Success Open House - January 18\, 2013
DESCRIPTION:
X-ALT-DESC;FMTTYPE=text/html:
LOCATION:Worcester Chamber
UID:e.2083.868
SEQUENCE:3
DTSTAMP:20260420T113401Z
URL:https://business.worcesterchamber.org/events/details/connect-for-success-open-house-january-18-2013-01-18-2013-868
END:VEVENT

END:VCALENDAR
