BEGIN:VCALENDAR
VERSION:2.0
PRODID:-//ChamberMaster//Event Calendar 2.0//EN
METHOD:PUBLISH
X-PUBLISHED-TTL:P3D
REFRESH-INTERVAL:P3D
CALSCALE:GREGORIAN
BEGIN:VEVENT
DTSTART:20120121T001500Z
DTEND:20120121T020000Z
X-MICROSOFT-CDO-ALLDAYEVENT:FALSE
SUMMARY:Connect for Success Open House - January 20\, 2012
DESCRIPTION:
X-ALT-DESC;FMTTYPE=text/html:
LOCATION:Worcester Chamber
UID:e.2083.775
SEQUENCE:3
DTSTAMP:20260421T051123Z
URL:https://business.worcesterchamber.org/events/details/connect-for-success-open-house-january-20-2012-01-20-2012-775
END:VEVENT

END:VCALENDAR
