BEGIN:VCALENDAR
VERSION:2.0
PRODID:-//ChamberMaster//Event Calendar 2.0//EN
METHOD:PUBLISH
X-PUBLISHED-TTL:P3D
REFRESH-INTERVAL:P3D
CALSCALE:GREGORIAN
BEGIN:VEVENT
DTSTART:20130111T233000Z
DTEND:20130111T050000Z
X-MICROSOFT-CDO-ALLDAYEVENT:FALSE
SUMMARY:Connect for Success Sharks Game - January 11\, 2013
DESCRIPTION:
X-ALT-DESC;FMTTYPE=text/html:
LOCATION:DCU Center
UID:e.2083.861
SEQUENCE:3
DTSTAMP:20260420T113417Z
URL:https://business.worcesterchamber.org/events/details/connect-for-success-sharks-game-january-11-2013-01-11-2013-861
END:VEVENT

END:VCALENDAR
