BEGIN:VCALENDAR
VERSION:2.0
PRODID:-//ChamberMaster//Event Calendar 2.0//EN
METHOD:PUBLISH
X-PUBLISHED-TTL:P3D
REFRESH-INTERVAL:P3D
CALSCALE:GREGORIAN
BEGIN:VEVENT
DTSTART:20120829T214500Z
DTEND:20120829T040000Z
X-MICROSOFT-CDO-ALLDAYEVENT:FALSE
SUMMARY:Connect for Success - Tornadoes Event 8/29/12 - cancelled
DESCRIPTION:
X-ALT-DESC;FMTTYPE=text/html:
LOCATION:Tornadoes Game
UID:e.2083.833
SEQUENCE:3
DTSTAMP:20260420T182808Z
URL:https://business.worcesterchamber.org/events/details/connect-for-success-tornadoes-event-8-29-12-cancelled-08-29-2012-833
END:VEVENT

END:VCALENDAR
