BEGIN:VCALENDAR
VERSION:2.0
PRODID:-//ChamberMaster//Event Calendar 2.0//EN
METHOD:PUBLISH
X-PUBLISHED-TTL:P3D
REFRESH-INTERVAL:P3D
CALSCALE:GREGORIAN
BEGIN:VEVENT
DTSTART:20111012T123000Z
DTEND:20111012T153000Z
X-MICROSOFT-CDO-ALLDAYEVENT:FALSE
SUMMARY:Disaster Planning Symposium\, 10/12/11\, Anna Maria College
DESCRIPTION:
X-ALT-DESC;FMTTYPE=text/html:
LOCATION:Anna Maria College
UID:e.2083.754
SEQUENCE:3
DTSTAMP:20260421T113804Z
URL:https://business.worcesterchamber.org/events/details/disaster-planning-symposium-10-12-11-anna-maria-college-10-12-2011-754
END:VEVENT

END:VCALENDAR
