BEGIN:VCALENDAR
VERSION:2.0
PRODID:-//ChamberMaster//Event Calendar 2.0//EN
METHOD:PUBLISH
X-PUBLISHED-TTL:P3D
REFRESH-INTERVAL:P3D
CALSCALE:GREGORIAN
BEGIN:VEVENT
DTSTART:20101028T183000Z
DTEND:20101028T191500Z
X-MICROSOFT-CDO-ALLDAYEVENT:FALSE
SUMMARY:Expo Seminar 2010 - Accelerating the Performance of Sales Or
DESCRIPTION:
X-ALT-DESC;FMTTYPE=text/html:
LOCATION:DCU Center\, Show Floor Seminar Room
UID:e.2083.670
SEQUENCE:3
DTSTAMP:20260422T054852Z
URL:https://business.worcesterchamber.org/events/details/expo-seminar-2010-accelerating-the-performance-of-sales-or-10-28-2010-670
END:VEVENT

END:VCALENDAR
