BEGIN:VCALENDAR
VERSION:2.0
PRODID:-//ChamberMaster//Event Calendar 2.0//EN
METHOD:PUBLISH
X-PUBLISHED-TTL:P3D
REFRESH-INTERVAL:P3D
CALSCALE:GREGORIAN
BEGIN:VEVENT
DTSTART:20101028T183000Z
DTEND:20101028T191500Z
X-MICROSOFT-CDO-ALLDAYEVENT:FALSE
SUMMARY:Expo Seminar 2010 - Develop an Effective Social Media Mkt...
DESCRIPTION:
X-ALT-DESC;FMTTYPE=text/html:
LOCATION:DCU Center\, Jr. Ballroom (3rd Floor)
UID:e.2083.673
SEQUENCE:3
DTSTAMP:20260422T054517Z
URL:https://business.worcesterchamber.org/events/details/expo-seminar-2010-develop-an-effective-social-media-mkt-10-28-2010-673
END:VEVENT

END:VCALENDAR
