BEGIN:VCALENDAR
VERSION:2.0
PRODID:-//ChamberMaster//Event Calendar 2.0//EN
METHOD:PUBLISH
X-PUBLISHED-TTL:P3D
REFRESH-INTERVAL:P3D
CALSCALE:GREGORIAN
BEGIN:VEVENT
DTSTART:20101028T140000Z
DTEND:20101028T144500Z
X-MICROSOFT-CDO-ALLDAYEVENT:FALSE
SUMMARY:Expo Seminar 2010 - Eliminate Chaos in Your Sales Process
DESCRIPTION:
X-ALT-DESC;FMTTYPE=text/html:
LOCATION:DCU Center\, Junior Ballroom (3rd floor)
UID:e.2083.662
SEQUENCE:3
DTSTAMP:20260422T041926Z
URL:https://business.worcesterchamber.org/events/details/expo-seminar-2010-eliminate-chaos-in-your-sales-process-10-28-2010-662
END:VEVENT

END:VCALENDAR
