BEGIN:VCALENDAR
VERSION:2.0
PRODID:-//ChamberMaster//Event Calendar 2.0//EN
METHOD:PUBLISH
X-PUBLISHED-TTL:P3D
REFRESH-INTERVAL:P3D
CALSCALE:GREGORIAN
BEGIN:VEVENT
DTSTART:20101028T150000Z
DTEND:20101028T154500Z
X-MICROSOFT-CDO-ALLDAYEVENT:FALSE
SUMMARY:Expo Seminar 2010 - Expect More/Sell More...Sell Value
DESCRIPTION:
X-ALT-DESC;FMTTYPE=text/html:
LOCATION:DCU Center\, Showcase Corner
UID:e.2083.663
SEQUENCE:3
DTSTAMP:20260422T054753Z
URL:https://business.worcesterchamber.org/events/details/expo-seminar-2010-expect-more-sell-more-sell-value-10-28-2010-663
END:VEVENT

END:VCALENDAR
