BEGIN:VCALENDAR
VERSION:2.0
PRODID:-//ChamberMaster//Event Calendar 2.0//EN
METHOD:PUBLISH
X-PUBLISHED-TTL:P3D
REFRESH-INTERVAL:P3D
CALSCALE:GREGORIAN
BEGIN:VEVENT
DTSTART:20101028T140000Z
DTEND:20101028T144500Z
X-MICROSOFT-CDO-ALLDAYEVENT:FALSE
SUMMARY:Expo Seminar 2010 - Growth Strategies to Energize Your Bus
DESCRIPTION:
X-ALT-DESC;FMTTYPE=text/html:
LOCATION:DCU Center\, Show Floor Seminar Room
UID:e.2083.661
SEQUENCE:3
DTSTAMP:20260422T055051Z
URL:https://business.worcesterchamber.org/events/details/expo-seminar-2010-growth-strategies-to-energize-your-bus-10-28-2010-661
END:VEVENT

END:VCALENDAR
