BEGIN:VCALENDAR
VERSION:2.0
PRODID:-//ChamberMaster//Event Calendar 2.0//EN
METHOD:PUBLISH
X-PUBLISHED-TTL:P3D
REFRESH-INTERVAL:P3D
CALSCALE:GREGORIAN
BEGIN:VEVENT
DTSTART:20101028T173000Z
DTEND:20101028T181500Z
X-MICROSOFT-CDO-ALLDAYEVENT:FALSE
SUMMARY:Expo Seminar 2010 - How to Network and use LinkedIn
DESCRIPTION:
X-ALT-DESC;FMTTYPE=text/html:
LOCATION:DCU Center\, Jr. Ballroom (3rd floor)
UID:e.2083.669
SEQUENCE:3
DTSTAMP:20260422T041721Z
URL:https://business.worcesterchamber.org/events/details/expo-seminar-2010-how-to-network-and-use-linkedin-10-28-2010-669
END:VEVENT

END:VCALENDAR
