BEGIN:VCALENDAR
VERSION:2.0
PRODID:-//ChamberMaster//Event Calendar 2.0//EN
METHOD:PUBLISH
X-PUBLISHED-TTL:P3D
REFRESH-INTERVAL:P3D
CALSCALE:GREGORIAN
BEGIN:VEVENT
DTSTART:20101027T150000Z
DTEND:20101027T154500Z
X-MICROSOFT-CDO-ALLDAYEVENT:FALSE
SUMMARY:Expo Seminar 2010 - No Time\,No Wast Mktg - No Kidding
DESCRIPTION:
X-ALT-DESC;FMTTYPE=text/html:
LOCATION:DCU Center\, Jr. Ballroom (third Floor)
UID:e.2083.664
SEQUENCE:3
DTSTAMP:20260422T055052Z
URL:https://business.worcesterchamber.org/events/details/expo-seminar-2010-no-time-no-wast-mktg-no-kidding-10-27-2010-664
END:VEVENT

END:VCALENDAR
